BEGIN:VCALENDAR
VERSION:2.0
PRODID:-//wp-events-plugin.com//5.99912//EN
TZID:Europe/Berlin
X-WR-TIMEZONE:Europe/Berlin
BEGIN:VEVENT
UID:0-678@gammertingen.albverein.eu
DTSTART;TZID=Europe/Berlin:20260428T180000
DTEND;TZID=Europe/Berlin:20260428T200000
DTSTAMP:20260313T141518Z
URL:https://gammertingen.albverein.eu/events/einladung-zum-gesundheitswand
 ern-2026-04-28/
SUMMARY:Einladung zum Gesundheitswandern
DESCRIPTION:Einladung zum Gesundheitswandern\n\n\nGesundheitswandern ist ei
 n tolles Bewegungsprogramm das Wandern\, Naturerlebnis\, Geselligkeit und 
 physiotherapeutische  Übungen wirkungsvoll kombiniert. Gesundheitswander
 ungen werden von zertifizierten Gesundheitswanderführern (nach DWV) in de
 r Regel wöchentlich angeboten und dauern ca. 2 Stunden. Dabei wird auf ei
 ner Strecke von ca. 3-5 km abwechselnd gewandert und bei Stopps zwischendu
 rch bei speziellen Übungen die Muskulatur gekräftigt und gedehnt und die
  Koordination geschult.\n\nGesundheitswandern macht Spaß – Probieren si
 e es einfach aus!\n\n\n\nKurse 2026 sind vom 07.04. bis 25.08.26      
                                                  
  Treffpunkt jeweils Dienstag um 18.00 Uhr am Bahnhof Gammertingen      
  (Dauer bis ca. 20 Uhr)\n\nKosten: 6 € pro Abend oder 40 € Zehnerkart
 e. Für Mitglieder der Ortsgruppe kostenlos.\nAnmeldung gerne bei\nGesundh
 eitswanderführerin Priska Pfister (Tel. 07574 4189)
END:VEVENT
BEGIN:VTIMEZONE
TZID:Europe/Berlin
X-LIC-LOCATION:Europe/Berlin
BEGIN:DAYLIGHT
DTSTART:20260329T030000
TZOFFSETFROM:+0100
TZOFFSETTO:+0200
TZNAME:CEST
END:DAYLIGHT
END:VTIMEZONE
END:VCALENDAR